BEGIN:VCALENDAR
VERSION:2.0
PRODID:-//ChamberMaster//Event Calendar 2.0//EN
METHOD:PUBLISH
X-PUBLISHED-TTL:P3D
REFRESH-INTERVAL:P3D
CALSCALE:GREGORIAN
BEGIN:VEVENT
DTSTART:20250214T173000Z
DTEND:20250214T180000Z
X-MICROSOFT-CDO-ALLDAYEVENT:FALSE
SUMMARY:Jeremy Jones Portable Storage Buildings and Custom Structure - Ribbon Cutting
DESCRIPTION:Join the Lamar Chamber of Commerce as we cut the ribbon for owner\, Jeremy Jones\, Jeremy Jones Portable Buildings and Custom Structures.  Their location is 2950 S. Church.  Remember to bring your business card for this networking opportunity.
X-ALT-DESC;FMTTYPE=text/html:<span style="color: rgb(51\, 51\, 51)\; font-family: sans-serif\, Arial\, Verdana\, &quot\;Trebuchet MS&quot\;\; font-size: 13px\; background-color: rgb(255\, 255\, 255)\;">Join the Lamar Chamber of Commerce as we cut the ribbon for owner\, Jeremy Jones\, Jeremy Jones Portable Buildings and Custom Structures.&nbsp\; Their location is 2950 S. Church.&nbsp\; Remember to bring your business card for this networking opportunity.&nbsp\;</span>
LOCATION:
UID:e.1675.19051
SEQUENCE:3
DTSTAMP:20260421T043742Z
URL:https://business.paristexas.com/events/details/jeremy-jones-portable-storage-buildings-and-custom-structure-ribbon-cutting-19051
END:VEVENT

END:VCALENDAR
