BEGIN:VCALENDAR
VERSION:2.0
PRODID:-//ChamberMaster//Event Calendar 2.0//EN
METHOD:PUBLISH
X-PUBLISHED-TTL:P3D
REFRESH-INTERVAL:P3D
CALSCALE:GREGORIAN
BEGIN:VEVENT
DTSTART:20250221T000000Z
DTEND:20250221T010000Z
X-MICROSOFT-CDO-ALLDAYEVENT:FALSE
SUMMARY:Maxey House Book Club
DESCRIPTION:Join the Maxey House Book Club in the Maxey House sunroom on Thursday\, February 20 at 6:00 pm to discuss Anne of Green Gables by L.M. Montgomery. From Amazon: Anne of Green Gables\, published in 1908 by Lucy Maud Montgomery\, is the beloved classic story of an orphan girl\, Anne Shirley\, who is adopted by the Cuthberts\, a family living on Prince Edward Island in Canada. With her wit\, charm\, and strong spirit\, Anne quickly wins the hearts of everyone she meets and learns to navigate the world around her\, eventually growing into an independent young woman. Along the way she experiences the joys and sorrows of growing up and develops meaningful relationships that last a lifetime. Go to the Maxey House Book Club's Facebook Group at https://www.facebook.com/groups/maxeyhousebookclub for more info.
X-ALT-DESC;FMTTYPE=text/html:Join the Maxey House Book Club in the Maxey House sunroom on Thursday\, February 20 at 6:00 pm to discuss Anne of Green Gables by L.M. Montgomery. From Amazon: Anne of Green Gables\, published in 1908 by Lucy Maud Montgomery\, is the beloved classic story of an orphan girl\, Anne Shirley\, who is adopted by the Cuthberts\, a family living on Prince Edward Island in Canada. With her wit\, charm\, and strong spirit\, Anne quickly wins the hearts of everyone she meets and learns to navigate the world around her\, eventually growing into an independent young woman. Along the way she experiences the joys and sorrows of growing up and develops meaningful relationships that last a lifetime. Go to the Maxey House Book Club&#39\;s Facebook Group at https://www.facebook.com/groups/maxeyhousebookclub for more info.
LOCATION:Sam Bell Maxey House 812 South Church St Paris\, TX 75460
UID:e.1675.19287
SEQUENCE:3
DTSTAMP:20260421T043435Z
URL:https://business.paristexas.com/events/details/maxey-house-book-club-02-20-2025-19287
END:VEVENT

END:VCALENDAR
