BEGIN:VCALENDAR
VERSION:2.0
PRODID:-//ChamberMaster//Event Calendar 2.0//EN
METHOD:PUBLISH
X-PUBLISHED-TTL:P3D
REFRESH-INTERVAL:P3D
CALSCALE:GREGORIAN
BEGIN:VEVENT
DTSTART:20210318T163000Z
DTEND:20210318T170000Z
X-MICROSOFT-CDO-ALLDAYEVENT:FALSE
SUMMARY:Mustard Seeds Boutique Ribbon Cutting
DESCRIPTION:Join the Lamar County Chamber of Commerce as we cut the Red Ribbon for Chamber member\, Mustard Seeds Boutique and meet the owner Angie McLemore.  Remember to bring your business cards for networking. We will be wearing face masks and social distancing.
X-ALT-DESC;FMTTYPE=text/html:<span style="color: rgb(51\, 51\, 51)\; font-family: sans-serif\, Arial\, Verdana\, &quot\;Trebuchet MS&quot\;\; font-size: 13px\; background-color: rgb(255\, 255\, 255)\;">Join the Lamar County Chamber of Commerce as we cut the Red Ribbon for Chamber member\, <strong><u>Mustard Seeds Boutique</u></strong></span>&nbsp\;and meet<span style="color: rgb(51\, 51\, 51)\; font-family: sans-serif\, Arial\, Verdana\, &quot\;Trebuchet MS&quot\;\; font-size: 13px\; background-color: rgb(255\, 255\, 255)\;">&nbsp\;the owner Angie McLemore.&nbsp\; Remember to bring your business cards for networking. We will be wearing face masks and social distancing.&nbsp\;</span>
LOCATION:101 Grand Avenue
UID:e.1675.16826
SEQUENCE:3
DTSTAMP:20260421T223924Z
URL:https://business.paristexas.com/events/details/mustard-seeds-boutique-ribbon-cutting-16826
END:VEVENT

END:VCALENDAR
