BEGIN:VCALENDAR
VERSION:2.0
PRODID:-//ChamberMaster//Event Calendar 2.0//EN
METHOD:PUBLISH
X-PUBLISHED-TTL:P3D
REFRESH-INTERVAL:P3D
CALSCALE:GREGORIAN
BEGIN:VEVENT
DTSTART:20210324T163000Z
DTEND:20210324T170000Z
X-MICROSOFT-CDO-ALLDAYEVENT:FALSE
SUMMARY:Norwood Family Dental Ribbon Cutting
DESCRIPTION:Join the Lamar County Chamber of Commerce as we cut the Red Ribbon for Chamber member\, Norwood Family Dental and meet Dr. Norwood and his staff.   Remember to bring your business cards for networking. We will be wearing face masks and social distancing.
X-ALT-DESC;FMTTYPE=text/html:<span style="color: rgb(51\, 51\, 51)\; font-family: sans-serif\, Arial\, Verdana\, &quot\;Trebuchet MS&quot\;\; font-size: 13px\; background-color: rgb(255\, 255\, 255)\;">Join the Lamar County Chamber of Commerce as we cut the Red Ribbon for Chamber member\, Norwood Family Dental and meet Dr. Norwood and his staff.&nbsp\; &nbsp\;Remember to bring your business cards for networking. We will be wearing face masks and social distancing.&nbsp\;&nbsp\;</span>
LOCATION:375 Stone Avenue\, Paris\, Texas
UID:e.1675.16830
SEQUENCE:3
DTSTAMP:20260421T203219Z
URL:https://business.paristexas.com/events/details/norwood-family-dental-ribbon-cutting-16830
END:VEVENT

END:VCALENDAR
