BEGIN:VCALENDAR
VERSION:2.0
PRODID:-//ChamberMaster//Event Calendar 2.0//EN
METHOD:PUBLISH
X-PUBLISHED-TTL:P3D
REFRESH-INTERVAL:P3D
CALSCALE:GREGORIAN
BEGIN:VEVENT
DTSTART:20201106T180000Z
DTEND:20201107T020000Z
X-MICROSOFT-CDO-ALLDAYEVENT:FALSE
SUMMARY:Novice VFD Annual Chili & Stew Supper
DESCRIPTION:Your choice of Drive Thru or Socially Distanced Dine-In.\n\nThe Novice Volunteer Fire Department is having their annual "All You Can Eat Chili Supper"  Fundraiser on Friday\, Nov. 6\, 2020 from Noon to 8 pm.  We will have mild\, medium\, and hot chili\, stew\, beans cornbread\, hot dogs\, Frito Pies and homemade desserts.  There wlll be a silent auction with some great things to bid on.  Chili supper prices are Adults $8.00\, Children 4 - 11 $4.00\, and children under the age of 4 are free!\n\nWe will have a drawing for a Ruger American Predator 6.5 Creedmoor hunting rifle with Sig Sauer 4 - 12 x 40 Scope at 8:00 pm.  You do not have to be present to win.  Tickets for drawing are $1.00 each or 6 for $5.00.  You do not have to be present to win.  Tickets for drawing are $1.00 each or 6 for $5.00.  We will be practicing social distancing if you eat at the fire department or you can get it to go.  Visit your neighbors\, support your community and enjoy a great meal at a great price at Novice Volunteer Fire Department\, 13834 FM 195.
X-ALT-DESC;FMTTYPE=text/html:Your choice of Drive Thru or Socially Distanced Dine-In.<br />\nThe Novice Volunteer Fire Department is having their annual &quot\;All You Can Eat Chili Supper&quot\;&nbsp\; Fundraiser on Friday\, Nov. 6\, 2020 from Noon to 8 pm.&nbsp\; We will have mild\, medium\, and hot chili\, stew\, beans cornbread\, hot dogs\, Frito Pies and homemade desserts.&nbsp\; There wlll be a silent auction with some great things to bid on.&nbsp\; Chili supper prices are Adults $8.00\, Children 4 - 11 $4.00\, and children under the age of 4 are free!<br />\nWe will have a drawing for a Ruger American Predator 6.5 Creedmoor hunting rifle with Sig Sauer 4 - 12 x 40 Scope at 8:00 pm.&nbsp\; You do not have to be present to win.&nbsp\; Tickets for drawing are $1.00 each or 6 for $5.00.&nbsp\; You do not have to be present to win.&nbsp\; Tickets for drawing are $1.00 each or 6 for $5.00.&nbsp\; We will be practicing social distancing if you eat at the fire department or you can get it to go.&nbsp\; Visit your neighbors\, support your community and enjoy a great meal at a great price at Novice Volunteer Fire Department\, 13834 FM 195.
LOCATION:
UID:e.1675.16780
SEQUENCE:3
DTSTAMP:20260421T144027Z
URL:https://business.paristexas.com/events/details/novice-vfd-annual-chili-stew-supper-16780
END:VEVENT

END:VCALENDAR
