BEGIN:VCALENDAR
VERSION:2.0
PRODID:-//ChamberMaster//Event Calendar 2.0//EN
METHOD:PUBLISH
X-PUBLISHED-TTL:P3D
REFRESH-INTERVAL:P3D
CALSCALE:GREGORIAN
BEGIN:VEVENT
DTSTART:20221022T003000Z
DTEND:20221023T033000Z
X-MICROSOFT-CDO-ALLDAYEVENT:FALSE
SUMMARY:Paris Community Theatre presents Drop Dead
DESCRIPTION:Meet at the Paris Community Theatre located in Historic Downtown Paris and be entertained by Drop Dead\, a farce directed by Laura Hutchings.
X-ALT-DESC;FMTTYPE=text/html:Meet at the Paris Community Theatre located in Historic Downtown Paris and be entertained by Drop Dead\, a farce directed by Laura Hutchings.&nbsp\;
LOCATION:
UID:e.1675.17526
SEQUENCE:3
DTSTAMP:20260419T175443Z
URL:https://business.paristexas.com/events/details/paris-community-theatre-presents-drop-dead-17526
END:VEVENT

END:VCALENDAR
