BEGIN:VCALENDAR
VERSION:2.0
PRODID:-//ChamberMaster//Event Calendar 2.0//EN
METHOD:PUBLISH
X-PUBLISHED-TTL:P3D
REFRESH-INTERVAL:P3D
CALSCALE:GREGORIAN
BEGIN:VEVENT
DTSTART:20250204T160000Z
DTEND:20250204T163000Z
X-MICROSOFT-CDO-ALLDAYEVENT:FALSE
SUMMARY:Paris Ford Lincoln 25th Anniversary and Ribbon Cutting
DESCRIPTION:Join the Lamar Chamber of Commerce as we celebrate 25 years and cut the ribbon for Paris Ford Lincoln.  Their location is 2020 Loop 286 NE.  Remember to bring your business card for this networking opportunity.
X-ALT-DESC;FMTTYPE=text/html:<span style="color: rgb(51\, 51\, 51)\; font-family: sans-serif\, Arial\, Verdana\, &quot\;Trebuchet MS&quot\;\; font-size: 13px\; background-color: rgb(255\, 255\, 255)\;">Join the Lamar Chamber of Commerce as we celebrate 25 years and cut the ribbon for Paris Ford Lincoln.&nbsp\; Their location is 2020 Loop 286 NE.&nbsp\; Remember to bring your business card for this networking opportunity.&nbsp\;</span>
LOCATION:
UID:e.1675.19269
SEQUENCE:3
DTSTAMP:20260421T043808Z
URL:https://business.paristexas.com/events/details/paris-ford-lincoln-25th-anniversary-and-ribbon-cutting-19269
END:VEVENT

END:VCALENDAR
