BEGIN:VCALENDAR
VERSION:2.0
PRODID:-//ChamberMaster//Event Calendar 2.0//EN
METHOD:PUBLISH
X-PUBLISHED-TTL:P3D
REFRESH-INTERVAL:P3D
CALSCALE:GREGORIAN
BEGIN:VEVENT
DTSTART:20210213T160000Z
DTEND:20210213T200000Z
X-MICROSOFT-CDO-ALLDAYEVENT:FALSE
SUMMARY:Paris Optimist Baseball Registration
DESCRIPTION:Spring baseball registration for 3-15 year old players
X-ALT-DESC;FMTTYPE=text/html:Spring baseball registration for 3-15 year old players
LOCATION:Lamar Avenue Church of Christ
UID:e.1675.16804
SEQUENCE:3
DTSTAMP:20260421T184136Z
URL:https://business.paristexas.com/events/details/paris-optimist-baseball-registration-02-13-2021-16804
END:VEVENT

END:VCALENDAR
