BEGIN:VCALENDAR
VERSION:2.0
PRODID:-//ChamberMaster//Event Calendar 2.0//EN
METHOD:PUBLISH
X-PUBLISHED-TTL:P3D
REFRESH-INTERVAL:P3D
CALSCALE:GREGORIAN
BEGIN:VEVENT
DTSTART:20160209T220000Z
DTEND:20160209T230000Z
X-MICROSOFT-CDO-ALLDAYEVENT:FALSE
SUMMARY:Paris Visitors & Convention Council Board Meeting
DESCRIPTION:Regular Board Meeting in the Chamber Board Room\,\n\n8 West Plaza.\n\nPlease RSVP
X-ALT-DESC;FMTTYPE=text/html:Regular Board Meeting in the Chamber Board Room\,<br />\n8 West Plaza.<br />\nPlease RSVP
LOCATION:
UID:e.1675.7543
SEQUENCE:3
DTSTAMP:20260422T012211Z
URL:https://business.paristexas.com/events/details/paris-visitors-convention-council-board-meeting-02-09-2016-7543
END:VEVENT

END:VCALENDAR
