BEGIN:VCALENDAR
VERSION:2.0
PRODID:-//ChamberMaster//Event Calendar 2.0//EN
METHOD:PUBLISH
X-PUBLISHED-TTL:P3D
REFRESH-INTERVAL:P3D
CALSCALE:GREGORIAN
BEGIN:VEVENT
DTSTART:20250222T000000Z
DTEND:20250222T030000Z
X-MICROSOFT-CDO-ALLDAYEVENT:FALSE
SUMMARY:Plaza Art Gallery - Third Friday Art Show
DESCRIPTION:Art of Chawn Upham and Andy Johnson
X-ALT-DESC;FMTTYPE=text/html:Art of Chawn Upham and Andy Johnson
LOCATION:8 West Plaza
UID:e.1675.19285
SEQUENCE:3
DTSTAMP:20260421T043330Z
URL:https://business.paristexas.com/events/details/plaza-art-gallery-third-friday-art-show-19285
END:VEVENT

END:VCALENDAR
