BEGIN:VCALENDAR
VERSION:2.0
PRODID:-//ChamberMaster//Event Calendar 2.0//EN
METHOD:PUBLISH
X-PUBLISHED-TTL:P3D
REFRESH-INTERVAL:P3D
CALSCALE:GREGORIAN
BEGIN:VEVENT
DTSTART:20250201T160000Z
DTEND:20250201T180000Z
X-MICROSOFT-CDO-ALLDAYEVENT:FALSE
SUMMARY:Plaza Art Guild offering "Let's Make Plushies!" Art Workshop
DESCRIPTION:FREE EVENT! All Supplies provided. \n\nPlaza Art Gallery\n\n8 West Plaza\, Paris\, Tx. 75460
X-ALT-DESC;FMTTYPE=text/html:FREE EVENT! All Supplies provided.&nbsp\;<br />\nPlaza Art Gallery<br />\n8 West Plaza\, Paris\, Tx. 75460
LOCATION:
UID:e.1675.19260
SEQUENCE:3
DTSTAMP:20260421T043406Z
URL:https://business.paristexas.com/events/details/plaza-art-guild-offering-let-s-make-plushies-art-workshop-19260
END:VEVENT

END:VCALENDAR
