BEGIN:VCALENDAR
VERSION:2.0
PRODID:-//ChamberMaster//Event Calendar 2.0//EN
METHOD:PUBLISH
X-PUBLISHED-TTL:P3D
REFRESH-INTERVAL:P3D
CALSCALE:GREGORIAN
BEGIN:VEVENT
DTSTART:20250207T170000Z
DTEND:20250208T053000Z
X-MICROSOFT-CDO-ALLDAYEVENT:FALSE
SUMMARY:Pools and More 25th Anniversary Celebration and Ribbon Cutting
DESCRIPTION:Join us for a 25th Anniversary Celebration and Ribbon Cutting Event!  \n\nLocation is 3577 NE Loop 286\n\nBring your business cards for networking opportunities!
X-ALT-DESC;FMTTYPE=text/html:Join us for a 25th Anniversary Celebration and Ribbon Cutting Event!&nbsp\;&nbsp\;<br />\nLocation is 3577 NE Loop 286<br />\nBring your business cards for networking opportunities!
LOCATION:
UID:e.1675.19016
SEQUENCE:3
DTSTAMP:20260421T043454Z
URL:https://business.paristexas.com/events/details/pools-and-more-25th-anniversary-celebration-and-ribbon-cutting-19016
END:VEVENT

END:VCALENDAR
