BEGIN:VCALENDAR
VERSION:2.0
PRODID:-//ChamberMaster//Event Calendar 2.0//EN
METHOD:PUBLISH
X-PUBLISHED-TTL:P3D
REFRESH-INTERVAL:P3D
CALSCALE:GREGORIAN
BEGIN:VEVENT
DTSTART:20210304T173000Z
DTEND:20210304T180000Z
X-MICROSOFT-CDO-ALLDAYEVENT:FALSE
SUMMARY:Poppy Petals Ribbon Cutting
DESCRIPTION:Join the Lamar County Chamber of Commerce as we cut the Red Ribbon for member\, Poppy Petals and meet the owner Brinda Peters and manager Debbie Helton.  Remember to bring your business cards for networking. We will be wearing face masks and social distancing. RSVP if you plan to attend.
X-ALT-DESC;FMTTYPE=text/html:<span style="color: rgb(51\, 51\, 51)\; font-family: sans-serif\, Arial\, Verdana\, &quot\;Trebuchet MS&quot\;\; font-size: 13px\; background-color: rgb(255\, 255\, 255)\;">Join the Lamar County Chamber of Commerce as we cut the Red Ribbon for member\, Poppy Petals and meet the owner Brinda Peters and manager Debbie Helton.&nbsp\; Remember to bring your business cards for networking. We will be wearing face masks and social distancing. RSVP if you plan to attend.&nbsp\;</span>
LOCATION:127 Bonham Street\, Paris
UID:e.1675.16821
SEQUENCE:3
DTSTAMP:20260421T202945Z
URL:https://business.paristexas.com/events/details/poppy-petals-ribbon-cutting-16821
END:VEVENT

END:VCALENDAR
