BEGIN:VCALENDAR
VERSION:2.0
PRODID:-//ChamberMaster//Event Calendar 2.0//EN
METHOD:PUBLISH
X-PUBLISHED-TTL:P3D
REFRESH-INTERVAL:P3D
CALSCALE:GREGORIAN
BEGIN:VEVENT
DTSTART:20250222T220000Z
DTEND:20250223T020000Z
X-MICROSOFT-CDO-ALLDAYEVENT:FALSE
SUMMARY:Powderly VFD Annual Chili Supper and Live Auction
DESCRIPTION:Aaron Parker Elementary School Gym\n\nDonation only at the door\n\nLive & Silent Auction\n\nChili\, trimmings\, deserts and drinks\n\nWe accept cash\, card\, or check.\n\nContact Randi Johnson (903) 249-1393 if you would like to donate to the auction.\n\nAll proceeds go to the fire department.
X-ALT-DESC;FMTTYPE=text/html:Aaron Parker Elementary School Gym<br />\nDonation only at the door<br />\nLive &amp\; Silent Auction<br />\nChili\, trimmings\, deserts and drinks<br />\nWe accept cash\, card\, or check.<br />\nContact Randi Johnson (903) 249-1393 if you would like to donate to the auction.<br />\nAll proceeds go to the fire department.&nbsp\;
LOCATION:
UID:e.1675.19275
SEQUENCE:3
DTSTAMP:20260421T043650Z
URL:https://business.paristexas.com/events/details/powderly-vfd-annual-chili-supper-and-live-auction-19275
END:VEVENT

END:VCALENDAR
