BEGIN:VCALENDAR
VERSION:2.0
PRODID:-//ChamberMaster//Event Calendar 2.0//EN
METHOD:PUBLISH
X-PUBLISHED-TTL:P3D
REFRESH-INTERVAL:P3D
CALSCALE:GREGORIAN
BEGIN:VEVENT
DTSTART:20250213T180000Z
DTEND:20250213T190000Z
X-MICROSOFT-CDO-ALLDAYEVENT:FALSE
SUMMARY:Rotary Club of Paris United and the Public
DESCRIPTION:Guests are welcome.\n\nGuest speakers from the Texas Department of Transportation. They will be sharing updates on current activities and future projects for Lamar County. \n\nCheck Facebook page of Rotary Club of Paris United.
X-ALT-DESC;FMTTYPE=text/html:Guests are welcome.<br />\nGuest speakers from the Texas Department of Transportation. They will be sharing updates on current activities and future projects for Lamar County.&nbsp\;<br />\nCheck Facebook page of Rotary Club of Paris United.&nbsp\;
LOCATION:Paris Conference & Event Center (Home2 Suites)\, located at 3143 NE Loop 286
UID:e.1675.18627
SEQUENCE:3
DTSTAMP:20260421T044516Z
URL:https://business.paristexas.com/events/details/rotary-club-of-paris-united-and-the-public-18627
END:VEVENT

END:VCALENDAR
