BEGIN:VCALENDAR
VERSION:2.0
PRODID:-//ChamberMaster//Event Calendar 2.0//EN
METHOD:PUBLISH
X-PUBLISHED-TTL:P3D
REFRESH-INTERVAL:P3D
CALSCALE:GREGORIAN
BEGIN:VEVENT
DTSTART:20211217T210000Z
DTEND:20211218T020000Z
X-MICROSOFT-CDO-ALLDAYEVENT:FALSE
SUMMARY:Santa in the Hut
DESCRIPTION:Santa in the Hut located at Bywaters Park
X-ALT-DESC;FMTTYPE=text/html:Santa in the Hut located at Bywaters Park
LOCATION:200 block of South Main Street
UID:e.1675.17311
SEQUENCE:3
DTSTAMP:20260421T013831Z
URL:https://business.paristexas.com/events/details/santa-in-the-hut-17311
END:VEVENT

END:VCALENDAR
