BEGIN:VCALENDAR
VERSION:2.0
PRODID:-//ChamberMaster//Event Calendar 2.0//EN
METHOD:PUBLISH
X-PUBLISHED-TTL:P3D
REFRESH-INTERVAL:P3D
CALSCALE:GREGORIAN
BEGIN:VEVENT
DTSTART:20210325T163000Z
DTEND:20210325T170000Z
X-MICROSOFT-CDO-ALLDAYEVENT:FALSE
SUMMARY:Thomas A. Ables & Associates Ribbon Cutting - Cancelled
DESCRIPTION:This ribbon cutting has been cancelled for tomorrow.  You will be notified of the rescheduled date.\n\nJoin the Lamar County Chamber of Commerce as we cut the Red Ribbon for Thomas A. Ables & Associates and meet agent Bret Ables. Remember to bring your business cards for networking. Masks and social distancing is encouraged.
X-ALT-DESC;FMTTYPE=text/html:<span style="font-size:18px\;"><strong>This ribbon cutting has been cancelled for tomorrow.&nbsp\; You will be notified of the rescheduled date.</strong></span><br />\nJoin the Lamar County Chamber of Commerce as we cut the Red Ribbon for Thomas A. Ables &amp\; Associates and meet agent Bret Ables. Remember to bring your business cards for networking. Masks and social distancing is encouraged.&nbsp\;
LOCATION:1325 Lamar Avenue\, Suite E\, Paris\, Tx.
UID:e.1675.16843
SEQUENCE:3
DTSTAMP:20260421T202826Z
URL:https://business.paristexas.com/events/details/thomas-a-ables-associates-ribbon-cutting-cancelled-16843
END:VEVENT

END:VCALENDAR
