BEGIN:VCALENDAR
VERSION:2.0
PRODID:-//ChamberMaster//Event Calendar 2.0//EN
METHOD:PUBLISH
X-PUBLISHED-TTL:P3D
REFRESH-INTERVAL:P3D
CALSCALE:GREGORIAN
BEGIN:VEVENT
DTSTART:20210309T170000Z
DTEND:20210309T173000Z
X-MICROSOFT-CDO-ALLDAYEVENT:FALSE
SUMMARY:Tidwell + Co. Travel Advisors Ribbon Cutting
DESCRIPTION:Join the Lamar County Chamber of Commerce as we cut the Red Ribbon for Member\, Tidwell + Co. Travel Advisors\, LLC\, and meet owner/agent Amanda Tidwell. Remember to bring your business cards for networking. We will be wearing masks and social distancing. Please RSVP if you plan to attend.
X-ALT-DESC;FMTTYPE=text/html:Join the Lamar County Chamber of Commerce as we cut the Red Ribbon for Member\, Tidwell + Co. Travel Advisors\, LLC\, and meet owner/agent Amanda Tidwell. Remember to bring your business cards for networking. We will be wearing masks and social distancing. Please RSVP if you plan to attend.&nbsp\;
LOCATION:1700 FM 195\, Suite 113\, Paris\, Tx. 75462
UID:e.1675.16817
SEQUENCE:3
DTSTAMP:20260421T223934Z
URL:https://business.paristexas.com/events/details/tidwell-co-travel-advisors-ribbon-cutting-16817
END:VEVENT

END:VCALENDAR
