BEGIN:VCALENDAR
VERSION:2.0
PRODID:-//ChamberMaster//Event Calendar 2.0//EN
METHOD:PUBLISH
X-PUBLISHED-TTL:P3D
REFRESH-INTERVAL:P3D
CALSCALE:GREGORIAN
BEGIN:VEVENT
DTSTART:20250212T200000Z
DTEND:20250212T210000Z
X-MICROSOFT-CDO-ALLDAYEVENT:FALSE
SUMMARY:United Way of Lamar County hosting second "Community Conversation of Homelessness"
DESCRIPTION:UNITED WAY OF LAMAR COUNTY HOSTS SECOND "COMMUNITY CONVERSATION ON HOMELESSNESS"\n\n \n\n(PARIS\, Texas) --  The United Way of Lamar County (UWLC) will be hosting a second "Community Conversation on Homelessness" at the Paris Public Library's Community Room on Wednesday\, February 12th at 2pm.\n\n \n\nUWLC Executive Director Jenny Wilson states\, "Last fall we had a great group of community leaders come together for our first "Community Conversation on Homelessness" to have a very open dialogue about the increasing number of homeless individuals in our community. We want to bring everyone back to the table to discuss some solutions that some of the agencies have been working on and brainstorm on how to address and hopefully fix this issue."\n\n \n\nAll are welcome to attend.  For more information\, call the United Way office at 903-784-6642 or email jenny.wilson@lamarcountyuw.org
X-ALT-DESC;FMTTYPE=text/html:<strong>UNITED WAY OF LAMAR COUNTY HOSTS SECOND &quot\;COMMUNITY CONVERSATION ON HOMELESSNESS&quot\;</strong><br />\n&nbsp\;<br />\n(PARIS\, Texas) --&nbsp\; The United Way of Lamar County (UWLC) will be hosting a second &quot\;Community Conversation on Homelessness&quot\; at the Paris Public Library&#39\;s Community Room on Wednesday\, February 12th at 2pm.<br />\n&nbsp\;<br />\nUWLC Executive Director Jenny Wilson states\, &quot\;Last fall we had a great group of community leaders come together for our first &quot\;Community Conversation on Homelessness&quot\; to have a very open dialogue about the increasing number of homeless individuals in our community. We want to bring everyone back to the table to discuss some solutions that some of the agencies have been working on and brainstorm on how to address and hopefully fix this issue.&quot\;<br />\n&nbsp\;<br />\nAll are welcome to attend.&nbsp\; For more information\, call the United Way office at 903-784-6642 or email <a href="mailto:jenny.wilson@lamarcountyuw.org">jenny.wilson@lamarcountyuw.org</a><br />\n&nbsp\;
LOCATION:
UID:e.1675.19282
SEQUENCE:3
DTSTAMP:20260421T044305Z
URL:https://business.paristexas.com/events/details/united-way-of-lamar-county-hosting-second-community-conversation-of-homelessness-19282
END:VEVENT

END:VCALENDAR
