BEGIN:VCALENDAR
VERSION:2.0
PRODID:-//ChamberMaster//Event Calendar 2.0//EN
METHOD:PUBLISH
X-PUBLISHED-TTL:P3D
REFRESH-INTERVAL:P3D
CALSCALE:GREGORIAN
BEGIN:VEVENT
DTSTART:20250214T150000Z
DTEND:20250214T170000Z
X-MICROSOFT-CDO-ALLDAYEVENT:FALSE
SUMMARY:Valentine's Coffee With the Cops
DESCRIPTION:Sponsored by State Farm - Britney Thrash at Paris Coffee Downtown\, 111 Lamar Avenue. \n\n"Be Mine" Special Guests: Paris EMS & Paris Fire.
X-ALT-DESC;FMTTYPE=text/html:Sponsored by State Farm - Britney Thrash at Paris Coffee Downtown\, 111 Lamar Avenue.&nbsp\;<br />\n&quot\;Be Mine&quot\; Special Guests: Paris EMS &amp\; Paris Fire.&nbsp\;
LOCATION:
UID:e.1675.19262
SEQUENCE:3
DTSTAMP:20260421T042451Z
URL:https://business.paristexas.com/events/details/valentine-s-coffee-with-the-cops-19262
END:VEVENT

END:VCALENDAR
