BEGIN:VCALENDAR
VERSION:2.0
PRODID:-//ChamberMaster//Event Calendar 2.0//EN
METHOD:PUBLISH
X-PUBLISHED-TTL:P3D
REFRESH-INTERVAL:P3D
CALSCALE:GREGORIAN
BEGIN:VEVENT
DTSTART:20201108T200000Z
DTEND:20201108T210000Z
X-MICROSOFT-CDO-ALLDAYEVENT:FALSE
SUMMARY:Veteran's Day Recognition Program
DESCRIPTION:sponsored by the Red River Valley Veteran's Memorial\n\nPatriotic Music by the North Lamar Band\n\nSpeaker\n\nPresentation of commemorative coins to all Veteran's present
X-ALT-DESC;FMTTYPE=text/html:sponsored by the Red River Valley Veteran&#39\;s Memorial<br />\nPatriotic Music by the North Lamar Band<br />\nSpeaker<br />\nPresentation of commemorative coins to all Veteran&#39\;s present
LOCATION:Inside the Love Civic Center 2025 S. Collegiate
UID:e.1675.16779
SEQUENCE:3
DTSTAMP:20260421T143918Z
URL:https://business.paristexas.com/events/details/veteran-s-day-recognition-program-16779
END:VEVENT

END:VCALENDAR
