BEGIN:VCALENDAR
VERSION:2.0
PRODID:-//ChamberMaster//Event Calendar 2.0//EN
METHOD:PUBLISH
X-PUBLISHED-TTL:P3D
REFRESH-INTERVAL:P3D
CALSCALE:GREGORIAN
BEGIN:VEVENT
DTSTART:20210302T170000Z
DTEND:20210302T173000Z
X-MICROSOFT-CDO-ALLDAYEVENT:FALSE
SUMMARY:Vibez Nutrition
DESCRIPTION:Join the Lamar County Chamber of Commerce as we cut the Red Ribbon for Chamber member\, Vibez Nutrition and meet the owner Brittany Twitty Johnson.  Remember to bring your business cards for networking. We will be wearing face masks and social distancing.  Please RSVP if you plan to attend.
X-ALT-DESC;FMTTYPE=text/html:Join the Lamar County Chamber of Commerce as we cut the Red Ribbon for Chamber member\, Vibez Nutrition and meet the owner Brittany Twitty Johnson.&nbsp\; Remember to bring your business cards for networking. We will be wearing face masks and social distancing.&nbsp\; Please RSVP if you plan to attend.<br />\n&nbsp\;
LOCATION:1535 Clarksville Street\, Paris\, Tx. (Across from Kroger in Williamsburg Shopping Center)
UID:e.1675.16816
SEQUENCE:3
DTSTAMP:20260421T202624Z
URL:https://business.paristexas.com/events/details/vibez-nutrition-16816
END:VEVENT

END:VCALENDAR
